BEGIN:VCALENDAR
VERSION:2.0
PRODID:-//Berg- und Wanderfreunde Untermeitingen - ECPv6.15.18//NONSGML v1.0//EN
CALSCALE:GREGORIAN
METHOD:PUBLISH
X-ORIGINAL-URL:https://www.berg-und-wanderfreunde-untermeitingen.de
X-WR-CALDESC:Veranstaltungen für Berg- und Wanderfreunde Untermeitingen
REFRESH-INTERVAL;VALUE=DURATION:PT1H
X-Robots-Tag:noindex
X-PUBLISHED-TTL:PT1H
BEGIN:VTIMEZONE
TZID:Europe/Berlin
BEGIN:DAYLIGHT
TZOFFSETFROM:+0100
TZOFFSETTO:+0200
TZNAME:CEST
DTSTART:20250330T010000
END:DAYLIGHT
BEGIN:STANDARD
TZOFFSETFROM:+0200
TZOFFSETTO:+0100
TZNAME:CET
DTSTART:20251026T010000
END:STANDARD
BEGIN:DAYLIGHT
TZOFFSETFROM:+0100
TZOFFSETTO:+0200
TZNAME:CEST
DTSTART:20260329T010000
END:DAYLIGHT
BEGIN:STANDARD
TZOFFSETFROM:+0200
TZOFFSETTO:+0100
TZNAME:CET
DTSTART:20261025T010000
END:STANDARD
BEGIN:DAYLIGHT
TZOFFSETFROM:+0100
TZOFFSETTO:+0200
TZNAME:CEST
DTSTART:20270328T010000
END:DAYLIGHT
BEGIN:STANDARD
TZOFFSETFROM:+0200
TZOFFSETTO:+0100
TZNAME:CET
DTSTART:20271031T010000
END:STANDARD
END:VTIMEZONE
BEGIN:VEVENT
DTSTART;VALUE=DATE:20261121
DTEND;VALUE=DATE:20261122
DTSTAMP:20260421T080444
CREATED:20260401T200256Z
LAST-MODIFIED:20260401T200824Z
UID:2008-1795219200-1795305599@www.berg-und-wanderfreunde-untermeitingen.de
SUMMARY:Volkstheater Untermeitingen
DESCRIPTION:Gemeinsamer Besuch der Vorstellung in der Imhofhalle. \nKarten bitte beim Vorstand vorbestellen.
URL:https://www.berg-und-wanderfreunde-untermeitingen.de/veranstaltung/volkstheater-untermeitingen/
LOCATION:Imhofhalle
CATEGORIES:Theaterbesuch
END:VEVENT
END:VCALENDAR