BEGIN:VCALENDAR
VERSION:2.0
PRODID:-//Berg- und Wanderfreunde Untermeitingen - ECPv6.15.18//NONSGML v1.0//EN
CALSCALE:GREGORIAN
METHOD:PUBLISH
X-ORIGINAL-URL:https://www.berg-und-wanderfreunde-untermeitingen.de
X-WR-CALDESC:Veranstaltungen für Berg- und Wanderfreunde Untermeitingen
REFRESH-INTERVAL;VALUE=DURATION:PT1H
X-Robots-Tag:noindex
X-PUBLISHED-TTL:PT1H
BEGIN:VTIMEZONE
TZID:Europe/Berlin
BEGIN:DAYLIGHT
TZOFFSETFROM:+0100
TZOFFSETTO:+0200
TZNAME:CEST
DTSTART:20240331T010000
END:DAYLIGHT
BEGIN:STANDARD
TZOFFSETFROM:+0200
TZOFFSETTO:+0100
TZNAME:CET
DTSTART:20241027T010000
END:STANDARD
BEGIN:DAYLIGHT
TZOFFSETFROM:+0100
TZOFFSETTO:+0200
TZNAME:CEST
DTSTART:20250330T010000
END:DAYLIGHT
BEGIN:STANDARD
TZOFFSETFROM:+0200
TZOFFSETTO:+0100
TZNAME:CET
DTSTART:20251026T010000
END:STANDARD
BEGIN:DAYLIGHT
TZOFFSETFROM:+0100
TZOFFSETTO:+0200
TZNAME:CEST
DTSTART:20260329T010000
END:DAYLIGHT
BEGIN:STANDARD
TZOFFSETFROM:+0200
TZOFFSETTO:+0100
TZNAME:CET
DTSTART:20261025T010000
END:STANDARD
END:VTIMEZONE
BEGIN:VEVENT
DTSTART;TZID=Europe/Berlin:20250830T160000
DTEND;TZID=Europe/Berlin:20250830T190000
DTSTAMP:20260422T033748
CREATED:20250303T204752Z
LAST-MODIFIED:20250830T091134Z
UID:1911-1756569600-1756580400@www.berg-und-wanderfreunde-untermeitingen.de
SUMMARY:Gottesdienst in der Pfarrkirche St. Stephan Untermeitingen
DESCRIPTION:Bereits zum dritten Mal feiern wir unseren jährlichen Gottesdienst\, aufgrund der Wettervorhersage dieses Jahr in der Pfarrkirche St. Stephan Untermeitingen. \nMit anschließendem Grillen und gemütlichem Beisammensein im Foyer des Pfarrheims.
URL:https://www.berg-und-wanderfreunde-untermeitingen.de/veranstaltung/gottesdienst-am-feldkreuz-2/
LOCATION:Pfarrkirche St. Stephan\, Untermeitingen
CATEGORIES:Feldgottesdienst
END:VEVENT
END:VCALENDAR