BEGIN:VCALENDAR
VERSION:2.0
PRODID:-//Berg- und Wanderfreunde Untermeitingen - ECPv6.15.18//NONSGML v1.0//EN
CALSCALE:GREGORIAN
METHOD:PUBLISH
X-WR-CALNAME:Berg- und Wanderfreunde Untermeitingen
X-ORIGINAL-URL:https://www.berg-und-wanderfreunde-untermeitingen.de
X-WR-CALDESC:Veranstaltungen für Berg- und Wanderfreunde Untermeitingen
REFRESH-INTERVAL;VALUE=DURATION:PT1H
X-Robots-Tag:noindex
X-PUBLISHED-TTL:PT1H
BEGIN:VTIMEZONE
TZID:Europe/Berlin
BEGIN:DAYLIGHT
TZOFFSETFROM:+0100
TZOFFSETTO:+0200
TZNAME:CEST
DTSTART:20230326T010000
END:DAYLIGHT
BEGIN:STANDARD
TZOFFSETFROM:+0200
TZOFFSETTO:+0100
TZNAME:CET
DTSTART:20231029T010000
END:STANDARD
BEGIN:DAYLIGHT
TZOFFSETFROM:+0100
TZOFFSETTO:+0200
TZNAME:CEST
DTSTART:20240331T010000
END:DAYLIGHT
BEGIN:STANDARD
TZOFFSETFROM:+0200
TZOFFSETTO:+0100
TZNAME:CET
DTSTART:20241027T010000
END:STANDARD
BEGIN:DAYLIGHT
TZOFFSETFROM:+0100
TZOFFSETTO:+0200
TZNAME:CEST
DTSTART:20250330T010000
END:DAYLIGHT
BEGIN:STANDARD
TZOFFSETFROM:+0200
TZOFFSETTO:+0100
TZNAME:CET
DTSTART:20251026T010000
END:STANDARD
END:VTIMEZONE
BEGIN:VEVENT
DTSTART;TZID=Europe/Berlin:20240211T090000
DTEND;TZID=Europe/Berlin:20240211T130000
DTSTAMP:20260423T092149
CREATED:20230203T144635Z
LAST-MODIFIED:20231209T060933Z
UID:1426-1707642000-1707656400@www.berg-und-wanderfreunde-untermeitingen.de
SUMMARY:Winterwanderung - Rund um Untermeitingen
DESCRIPTION:Rund um Untermeitingen\nmit Schatzsuche für Kinder (3-11 Jahre) \nTreffpunkt: 9:00 Uhr Rathausplatz UMT\nEs gibt zwei unterschiedliche Strecken auf dem Lechfeld (5 km und 10 km). Im Anschluss an die Wanderung gibt es Weißwürste und Brezen im Bürgersaal des Imhof-Hauses. Für alle\, die nicht mitwandern können\, aber trotzdem gerne dabei sind\, findet das Weißwurstessen mit gemütlichem Beisammensein bereits ab 10:30 Uhr statt. \nZusatz zur Winterwanderung:\nSchatzsuche auf dem Lechfeld für Familien mit Kindern (3-11 Jahre)\nStrecke: circa 5km\nDauer: circa 45min \nSportkinderwagentaugliche Strecke.\nDie Kinder lösen an verschiedenen Stationen Rätsel und erhalten einen Stempel. Am Zielpunkt wird die Stempelkarte gegen einen kleinen Schatz eingetauscht. Die Teilnahme ist kostenlos\, aber wir bitten um eine Anmeldung.\nDie Aufsichtspflicht liegt während der gesamten Veranstaltung bei den Eltern.
URL:https://www.berg-und-wanderfreunde-untermeitingen.de/veranstaltung/winterwanderung/
LOCATION:Bürgersaal im Haus Imhof\, Untermeitingen\, Von-Imhof-Straße 7\, Untermeitingen\, 86836
CATEGORIES:Winterwanderung
END:VEVENT
END:VCALENDAR