BEGIN:VCALENDAR
VERSION:2.0
PRODID:-//Berg- und Wanderfreunde Untermeitingen - ECPv6.15.18//NONSGML v1.0//EN
CALSCALE:GREGORIAN
METHOD:PUBLISH
X-WR-CALNAME:Berg- und Wanderfreunde Untermeitingen
X-ORIGINAL-URL:https://www.berg-und-wanderfreunde-untermeitingen.de
X-WR-CALDESC:Veranstaltungen für Berg- und Wanderfreunde Untermeitingen
REFRESH-INTERVAL;VALUE=DURATION:PT1H
X-Robots-Tag:noindex
X-PUBLISHED-TTL:PT1H
BEGIN:VTIMEZONE
TZID:Europe/Berlin
BEGIN:DAYLIGHT
TZOFFSETFROM:+0100
TZOFFSETTO:+0200
TZNAME:CEST
DTSTART:20220327T010000
END:DAYLIGHT
BEGIN:STANDARD
TZOFFSETFROM:+0200
TZOFFSETTO:+0100
TZNAME:CET
DTSTART:20221030T010000
END:STANDARD
BEGIN:DAYLIGHT
TZOFFSETFROM:+0100
TZOFFSETTO:+0200
TZNAME:CEST
DTSTART:20230326T010000
END:DAYLIGHT
BEGIN:STANDARD
TZOFFSETFROM:+0200
TZOFFSETTO:+0100
TZNAME:CET
DTSTART:20231029T010000
END:STANDARD
BEGIN:DAYLIGHT
TZOFFSETFROM:+0100
TZOFFSETTO:+0200
TZNAME:CEST
DTSTART:20240331T010000
END:DAYLIGHT
BEGIN:STANDARD
TZOFFSETFROM:+0200
TZOFFSETTO:+0100
TZNAME:CET
DTSTART:20241027T010000
END:STANDARD
END:VTIMEZONE
BEGIN:VEVENT
DTSTART;TZID=Europe/Berlin:20230401T200000
DTEND;TZID=Europe/Berlin:20230401T230000
DTSTAMP:20260423T045926
CREATED:20230128T123633Z
LAST-MODIFIED:20230212T121416Z
UID:1397-1680379200-1680390000@www.berg-und-wanderfreunde-untermeitingen.de
SUMMARY:Besuch des "kleinen Theaters" Untermeitingen
DESCRIPTION:Der Untermeitinger Theaterverein Laetitia 1908 führt in diesem Jahr das Stück „Irres Diamantenroulette“ in seinem „Kleinen Theater“ auf und wir haben Karten in der ersten Reihe! \nWer mit den Berg- und Wanderfreunden zur Aufführung gehen möchte\, kann sich beim Vorsitzenden bezüglich Kartenreservierung melden oder uns einfach eine Email schreiben. \nWir freuen uns auf eine rege Teilnahme!
URL:https://www.berg-und-wanderfreunde-untermeitingen.de/veranstaltung/besuch-des-kleinen-theaters-untermeitingen/
LOCATION:Imhofhalle
CATEGORIES:Theaterbesuch
END:VEVENT
END:VCALENDAR