BEGIN:VCALENDAR
VERSION:2.0
PRODID:-//Berg- und Wanderfreunde Untermeitingen - ECPv6.15.18//NONSGML v1.0//EN
CALSCALE:GREGORIAN
METHOD:PUBLISH
X-WR-CALNAME:Berg- und Wanderfreunde Untermeitingen
X-ORIGINAL-URL:https://www.berg-und-wanderfreunde-untermeitingen.de
X-WR-CALDESC:Veranstaltungen für Berg- und Wanderfreunde Untermeitingen
REFRESH-INTERVAL;VALUE=DURATION:PT1H
X-Robots-Tag:noindex
X-PUBLISHED-TTL:PT1H
BEGIN:VTIMEZONE
TZID:Europe/Berlin
BEGIN:DAYLIGHT
TZOFFSETFROM:+0100
TZOFFSETTO:+0200
TZNAME:CEST
DTSTART:20230326T010000
END:DAYLIGHT
BEGIN:STANDARD
TZOFFSETFROM:+0200
TZOFFSETTO:+0100
TZNAME:CET
DTSTART:20231029T010000
END:STANDARD
BEGIN:DAYLIGHT
TZOFFSETFROM:+0100
TZOFFSETTO:+0200
TZNAME:CEST
DTSTART:20240331T010000
END:DAYLIGHT
BEGIN:STANDARD
TZOFFSETFROM:+0200
TZOFFSETTO:+0100
TZNAME:CET
DTSTART:20241027T010000
END:STANDARD
BEGIN:DAYLIGHT
TZOFFSETFROM:+0100
TZOFFSETTO:+0200
TZNAME:CEST
DTSTART:20250330T010000
END:DAYLIGHT
BEGIN:STANDARD
TZOFFSETFROM:+0200
TZOFFSETTO:+0100
TZNAME:CET
DTSTART:20251026T010000
END:STANDARD
END:VTIMEZONE
BEGIN:VEVENT
DTSTART;TZID=Europe/Berlin:20240714T090000
DTEND;TZID=Europe/Berlin:20240714T170000
DTSTAMP:20260423T021812
CREATED:20240624T184138Z
LAST-MODIFIED:20240624T184625Z
UID:1837-1720947600-1720976400@www.berg-und-wanderfreunde-untermeitingen.de
SUMMARY:3. Familienwanderung: Lechbruck - Rundweg um den Lechstausee Urspring
DESCRIPTION:Treffpunkt: 09:00 Uhr Imhofhalle\, Fahrgemeinschaften (Anfahrt 62 km) \nStreckenlänge: 9 km \nDauer: circa 2\,5 Stunden \nAuf dem Weg befindet sich eine Wassertretanlage. Anschließend Einkehr im Lechbrucker Hof. Für alle\, die nicht Wandern aber einen schönen Tag in Lechbruck verbringen möchten\, finden sich dort ein großer Spielplatz in der Nähe des Parkplatzes\, ein Eiscafé und Café sowie eine Minigolfanlage. Ein Laden der Schönegger Käsealm ist ebenfalls in Laufweite.
URL:https://www.berg-und-wanderfreunde-untermeitingen.de/veranstaltung/3-familienwanderung-lechbruck-rundweg-um-den-lechstausee-urspring/
CATEGORIES:Familienwanderung
END:VEVENT
END:VCALENDAR