BEGIN:VCALENDAR
VERSION:2.0
PRODID:-//Berg- und Wanderfreunde Untermeitingen - ECPv6.15.18//NONSGML v1.0//EN
CALSCALE:GREGORIAN
METHOD:PUBLISH
X-ORIGINAL-URL:https://www.berg-und-wanderfreunde-untermeitingen.de
X-WR-CALDESC:Veranstaltungen für Berg- und Wanderfreunde Untermeitingen
REFRESH-INTERVAL;VALUE=DURATION:PT1H
X-Robots-Tag:noindex
X-PUBLISHED-TTL:PT1H
BEGIN:VTIMEZONE
TZID:Europe/Berlin
BEGIN:DAYLIGHT
TZOFFSETFROM:+0100
TZOFFSETTO:+0200
TZNAME:CEST
DTSTART:20220327T010000
END:DAYLIGHT
BEGIN:STANDARD
TZOFFSETFROM:+0200
TZOFFSETTO:+0100
TZNAME:CET
DTSTART:20221030T010000
END:STANDARD
BEGIN:DAYLIGHT
TZOFFSETFROM:+0100
TZOFFSETTO:+0200
TZNAME:CEST
DTSTART:20230326T010000
END:DAYLIGHT
BEGIN:STANDARD
TZOFFSETFROM:+0200
TZOFFSETTO:+0100
TZNAME:CET
DTSTART:20231029T010000
END:STANDARD
BEGIN:DAYLIGHT
TZOFFSETFROM:+0100
TZOFFSETTO:+0200
TZNAME:CEST
DTSTART:20240331T010000
END:DAYLIGHT
BEGIN:STANDARD
TZOFFSETFROM:+0200
TZOFFSETTO:+0100
TZNAME:CET
DTSTART:20241027T010000
END:STANDARD
END:VTIMEZONE
BEGIN:VEVENT
DTSTART;TZID=Europe/Berlin:20231209T120000
DTEND;TZID=Europe/Berlin:20231209T210000
DTSTAMP:20260423T131234
CREATED:20230203T144422Z
LAST-MODIFIED:20231209T060639Z
UID:1421-1702123200-1702155600@www.berg-und-wanderfreunde-untermeitingen.de
SUMMARY:Fahrt zum Christkindlmarkt nach Landshut
DESCRIPTION:Der Landshuter Christkindlmarkt gilt weit über die Region hinaus als einer der schönsten Weihnachts-märkte Bayerns. Der Markt be-steht aus circa 50 Geschäften und findet dieses Jahr in der Zeit vom 23. November bis 23. Dezember 2023 auf der Ringelstecherwiese statt.\nNeben einer Vielzahl an kulinarischen Angeboten bietet der Christkindlmarkt Besucherinnen und Besuchern auch ein umfangreiches Sortiment an weihnachtlichen Artikeln und Geschenkideen. Zu Fuß erreichen Sie die Landshuter Innenstadt in wenigen Minuten\, die sich in vorweihnachtlichem Lichterglanz präsentiert. Die weihnachtlich dekorierten Schaufenster und das kulinarische Angebot der Gastronomie laden zum Bummeln und Verweilen ein. \nEs sind schon alles Plätze im Bus belegt. \nAbfahrtszeiten \n12:00 Uhr ab Stuhler Hof Schwabmünchen\n12:15 Uhr ab Imhofhalle Untermeitingen\nKurze Pause auf Rastplatz\n15:00 Uhr Landshut Ringelstecher wiese\n19:00 Uhr Rückfahrt\nRückkehr: ca. 21:00 Uhr in Untermeitingen
URL:https://www.berg-und-wanderfreunde-untermeitingen.de/veranstaltung/fahrt-zum-christkindlmarkt/
LOCATION:Christkindlmarkt Landshut
CATEGORIES:Weihnachtsmarkt
END:VEVENT
END:VCALENDAR