BEGIN:VCALENDAR
VERSION:2.0
PRODID:-//Berg- und Wanderfreunde Untermeitingen - ECPv6.15.18//NONSGML v1.0//EN
CALSCALE:GREGORIAN
METHOD:PUBLISH
X-ORIGINAL-URL:https://www.berg-und-wanderfreunde-untermeitingen.de
X-WR-CALDESC:Veranstaltungen für Berg- und Wanderfreunde Untermeitingen
REFRESH-INTERVAL;VALUE=DURATION:PT1H
X-Robots-Tag:noindex
X-PUBLISHED-TTL:PT1H
BEGIN:VTIMEZONE
TZID:Europe/Berlin
BEGIN:DAYLIGHT
TZOFFSETFROM:+0100
TZOFFSETTO:+0200
TZNAME:CEST
DTSTART:20240331T010000
END:DAYLIGHT
BEGIN:STANDARD
TZOFFSETFROM:+0200
TZOFFSETTO:+0100
TZNAME:CET
DTSTART:20241027T010000
END:STANDARD
BEGIN:DAYLIGHT
TZOFFSETFROM:+0100
TZOFFSETTO:+0200
TZNAME:CEST
DTSTART:20250330T010000
END:DAYLIGHT
BEGIN:STANDARD
TZOFFSETFROM:+0200
TZOFFSETTO:+0100
TZNAME:CET
DTSTART:20251026T010000
END:STANDARD
BEGIN:DAYLIGHT
TZOFFSETFROM:+0100
TZOFFSETTO:+0200
TZNAME:CEST
DTSTART:20260329T010000
END:DAYLIGHT
BEGIN:STANDARD
TZOFFSETFROM:+0200
TZOFFSETTO:+0100
TZNAME:CET
DTSTART:20261025T010000
END:STANDARD
END:VTIMEZONE
BEGIN:VEVENT
DTSTART;TZID=Europe/Berlin:20250815T090000
DTEND;TZID=Europe/Berlin:20250815T140000
DTSTAMP:20260422T042038
CREATED:20250803T155522Z
LAST-MODIFIED:20250803T155522Z
UID:1929-1755248400-1755266400@www.berg-und-wanderfreunde-untermeitingen.de
SUMMARY:2. Radtour zur Teufelsküche Landsberg
DESCRIPTION:Radtour von Untermeitingen über Kaufering zur Teufelsküche in Landsberg. \nTreffpunkt: 9:00 Uhr an der Imhofhalle Untermeitingen \nEinkehr ist geplant. \nE-Bikes dürfen gerne mitfahren\, aber die nicht motorisierten Fahrräder geben die Geschwindigkeit vor.
URL:https://www.berg-und-wanderfreunde-untermeitingen.de/veranstaltung/2-radtour-zur-teufelskueche-landsberg/
CATEGORIES:Radwanderung
END:VEVENT
END:VCALENDAR