BEGIN:VCALENDAR
VERSION:2.0
PRODID:-//Berg- und Wanderfreunde Untermeitingen - ECPv6.15.18//NONSGML v1.0//EN
CALSCALE:GREGORIAN
METHOD:PUBLISH
X-ORIGINAL-URL:https://www.berg-und-wanderfreunde-untermeitingen.de
X-WR-CALDESC:Veranstaltungen für Berg- und Wanderfreunde Untermeitingen
REFRESH-INTERVAL;VALUE=DURATION:PT1H
X-Robots-Tag:noindex
X-PUBLISHED-TTL:PT1H
BEGIN:VTIMEZONE
TZID:Europe/Berlin
BEGIN:DAYLIGHT
TZOFFSETFROM:+0100
TZOFFSETTO:+0200
TZNAME:CEST
DTSTART:20230326T010000
END:DAYLIGHT
BEGIN:STANDARD
TZOFFSETFROM:+0200
TZOFFSETTO:+0100
TZNAME:CET
DTSTART:20231029T010000
END:STANDARD
BEGIN:DAYLIGHT
TZOFFSETFROM:+0100
TZOFFSETTO:+0200
TZNAME:CEST
DTSTART:20240331T010000
END:DAYLIGHT
BEGIN:STANDARD
TZOFFSETFROM:+0200
TZOFFSETTO:+0100
TZNAME:CET
DTSTART:20241027T010000
END:STANDARD
BEGIN:DAYLIGHT
TZOFFSETFROM:+0100
TZOFFSETTO:+0200
TZNAME:CEST
DTSTART:20250330T010000
END:DAYLIGHT
BEGIN:STANDARD
TZOFFSETFROM:+0200
TZOFFSETTO:+0100
TZNAME:CET
DTSTART:20251026T010000
END:STANDARD
END:VTIMEZONE
BEGIN:VEVENT
DTSTART;TZID=Europe/Berlin:20240921T080000
DTEND;TZID=Europe/Berlin:20240921T170000
DTSTAMP:20260423T011405
CREATED:20240624T185330Z
LAST-MODIFIED:20240916T152547Z
UID:1844-1726905600-1726938000@www.berg-und-wanderfreunde-untermeitingen.de
SUMMARY:ABGESAGT: Tageswanderung: Kleiner Alpsee bei Immenstadt
DESCRIPTION:Die Wanderung findet NICHT statt. Es wird kein Ersatztermin angeboten.
URL:https://www.berg-und-wanderfreunde-untermeitingen.de/veranstaltung/tageswanderung-kleiner-alpsee-bei-immenstadt/
CATEGORIES:Tageswanderung
END:VEVENT
END:VCALENDAR