BEGIN:VCALENDAR
VERSION:2.0
PRODID:-//Berg- und Wanderfreunde Untermeitingen - ECPv6.15.18//NONSGML v1.0//EN
CALSCALE:GREGORIAN
METHOD:PUBLISH
X-ORIGINAL-URL:https://www.berg-und-wanderfreunde-untermeitingen.de
X-WR-CALDESC:Veranstaltungen für Berg- und Wanderfreunde Untermeitingen
REFRESH-INTERVAL;VALUE=DURATION:PT1H
X-Robots-Tag:noindex
X-PUBLISHED-TTL:PT1H
BEGIN:VTIMEZONE
TZID:Europe/Berlin
BEGIN:DAYLIGHT
TZOFFSETFROM:+0100
TZOFFSETTO:+0200
TZNAME:CEST
DTSTART:20230326T010000
END:DAYLIGHT
BEGIN:STANDARD
TZOFFSETFROM:+0200
TZOFFSETTO:+0100
TZNAME:CET
DTSTART:20231029T010000
END:STANDARD
BEGIN:DAYLIGHT
TZOFFSETFROM:+0100
TZOFFSETTO:+0200
TZNAME:CEST
DTSTART:20240331T010000
END:DAYLIGHT
BEGIN:STANDARD
TZOFFSETFROM:+0200
TZOFFSETTO:+0100
TZNAME:CET
DTSTART:20241027T010000
END:STANDARD
BEGIN:DAYLIGHT
TZOFFSETFROM:+0100
TZOFFSETTO:+0200
TZNAME:CEST
DTSTART:20250330T010000
END:DAYLIGHT
BEGIN:STANDARD
TZOFFSETFROM:+0200
TZOFFSETTO:+0100
TZNAME:CET
DTSTART:20251026T010000
END:STANDARD
END:VTIMEZONE
BEGIN:VEVENT
DTSTART;TZID=Europe/Berlin:20240907T160000
DTEND;TZID=Europe/Berlin:20240907T190000
DTSTAMP:20260422T214648
CREATED:20240624T184832Z
LAST-MODIFIED:20240904T113618Z
UID:1842-1725724800-1725735600@www.berg-und-wanderfreunde-untermeitingen.de
SUMMARY:Gottesdienst am Feldkreuz
DESCRIPTION:Beginn: 16:00 Uhr\, Feldkreuzanlage hinter dem Sportplatz des SV Untermeitingen \nEingeladen sind alle Vereinsmitglieder und die Kirchengemeinde Untermeitingen zu einem Festgottesdienst. Im Anschluss wird gegrillt. \nBei schlechtem Wetter findet der Gottesdienst in der Pfarrkirche St. Stephan in Untermeitingen statt.
URL:https://www.berg-und-wanderfreunde-untermeitingen.de/veranstaltung/gottesdienst-am-feldkreuz/
CATEGORIES:Feldgottesdienst
END:VEVENT
END:VCALENDAR