BEGIN:VCALENDAR
VERSION:2.0
PRODID:-//Berg- und Wanderfreunde Untermeitingen - ECPv6.15.18//NONSGML v1.0//EN
CALSCALE:GREGORIAN
METHOD:PUBLISH
X-WR-CALNAME:Berg- und Wanderfreunde Untermeitingen
X-ORIGINAL-URL:https://www.berg-und-wanderfreunde-untermeitingen.de
X-WR-CALDESC:Veranstaltungen für Berg- und Wanderfreunde Untermeitingen
REFRESH-INTERVAL;VALUE=DURATION:PT1H
X-Robots-Tag:noindex
X-PUBLISHED-TTL:PT1H
BEGIN:VTIMEZONE
TZID:Europe/Berlin
BEGIN:DAYLIGHT
TZOFFSETFROM:+0100
TZOFFSETTO:+0200
TZNAME:CEST
DTSTART:20250330T010000
END:DAYLIGHT
BEGIN:STANDARD
TZOFFSETFROM:+0200
TZOFFSETTO:+0100
TZNAME:CET
DTSTART:20251026T010000
END:STANDARD
BEGIN:DAYLIGHT
TZOFFSETFROM:+0100
TZOFFSETTO:+0200
TZNAME:CEST
DTSTART:20260329T010000
END:DAYLIGHT
BEGIN:STANDARD
TZOFFSETFROM:+0200
TZOFFSETTO:+0100
TZNAME:CET
DTSTART:20261025T010000
END:STANDARD
BEGIN:DAYLIGHT
TZOFFSETFROM:+0100
TZOFFSETTO:+0200
TZNAME:CEST
DTSTART:20270328T010000
END:DAYLIGHT
BEGIN:STANDARD
TZOFFSETFROM:+0200
TZOFFSETTO:+0100
TZNAME:CET
DTSTART:20271031T010000
END:STANDARD
END:VTIMEZONE
BEGIN:VEVENT
DTSTART;TZID=Europe/Berlin:20260503T090000
DTEND;TZID=Europe/Berlin:20260503T170000
DTSTAMP:20260421T153000
CREATED:20260401T193523Z
LAST-MODIFIED:20260401T193523Z
UID:1986-1777798800-1777827600@www.berg-und-wanderfreunde-untermeitingen.de
SUMMARY:2. Familienwanderung - Brettlesweg & Wieskirche
DESCRIPTION:Einzigartiger Rundweg zwischen Natur und Kultur. Durch das idyllische Wiesfilz zur Wies (Welfenmünster) \nStrecke: 9\,6km (203 hm) \nDauer: circa 2\,5 Std \nTreffpunkt: 9:00 Uhr\, Imhofhalle (Fahrgemeinschaften) \nEinkehr: Gasthof an der Wies
URL:https://www.berg-und-wanderfreunde-untermeitingen.de/veranstaltung/2-familienwanderung-brettlesweg-wieskirche/
CATEGORIES:Familienwanderung
END:VEVENT
END:VCALENDAR