BEGIN:VCALENDAR
VERSION:2.0
PRODID:-//Berg- und Wanderfreunde Untermeitingen - ECPv6.15.18//NONSGML v1.0//EN
CALSCALE:GREGORIAN
METHOD:PUBLISH
X-WR-CALNAME:Berg- und Wanderfreunde Untermeitingen
X-ORIGINAL-URL:https://www.berg-und-wanderfreunde-untermeitingen.de
X-WR-CALDESC:Veranstaltungen für Berg- und Wanderfreunde Untermeitingen
REFRESH-INTERVAL;VALUE=DURATION:PT1H
X-Robots-Tag:noindex
X-PUBLISHED-TTL:PT1H
BEGIN:VTIMEZONE
TZID:Europe/Berlin
BEGIN:DAYLIGHT
TZOFFSETFROM:+0100
TZOFFSETTO:+0200
TZNAME:CEST
DTSTART:20220327T010000
END:DAYLIGHT
BEGIN:STANDARD
TZOFFSETFROM:+0200
TZOFFSETTO:+0100
TZNAME:CET
DTSTART:20221030T010000
END:STANDARD
BEGIN:DAYLIGHT
TZOFFSETFROM:+0100
TZOFFSETTO:+0200
TZNAME:CEST
DTSTART:20230326T010000
END:DAYLIGHT
BEGIN:STANDARD
TZOFFSETFROM:+0200
TZOFFSETTO:+0100
TZNAME:CET
DTSTART:20231029T010000
END:STANDARD
BEGIN:DAYLIGHT
TZOFFSETFROM:+0100
TZOFFSETTO:+0200
TZNAME:CEST
DTSTART:20240331T010000
END:DAYLIGHT
BEGIN:STANDARD
TZOFFSETFROM:+0200
TZOFFSETTO:+0100
TZNAME:CET
DTSTART:20241027T010000
END:STANDARD
END:VTIMEZONE
BEGIN:VEVENT
DTSTART;TZID=Europe/Berlin:20230501T090000
DTEND;TZID=Europe/Berlin:20230501T150000
DTSTAMP:20260424T073625
CREATED:20230203T130231Z
LAST-MODIFIED:20230203T144821Z
UID:1409-1682931600-1682953200@www.berg-und-wanderfreunde-untermeitingen.de
SUMMARY:2. Familienwanderung "Kirch-Siebnach" bei Schwabegg
DESCRIPTION:Wir wandern auf einem idyllischen Rundwanderweg über die Kirch-Siebnach zum Wirtshaus Füchsle (mit Einkehr) und zurück. \nTreffpunkt ist um 9:00 Uhr an der Imhofhalle Untermeitingen. Dort werden Fahrgemeinschaften gebildet. \n 
URL:https://www.berg-und-wanderfreunde-untermeitingen.de/veranstaltung/2-familienwanderung-kirch-siebnach-bei-schwabegg/
LOCATION:Imhofhalle
END:VEVENT
END:VCALENDAR