BEGIN:VCALENDAR
VERSION:2.0
PRODID:-//Berg- und Wanderfreunde Untermeitingen - ECPv6.15.18//NONSGML v1.0//EN
CALSCALE:GREGORIAN
METHOD:PUBLISH
X-WR-CALNAME:Berg- und Wanderfreunde Untermeitingen
X-ORIGINAL-URL:https://www.berg-und-wanderfreunde-untermeitingen.de
X-WR-CALDESC:Veranstaltungen für Berg- und Wanderfreunde Untermeitingen
REFRESH-INTERVAL;VALUE=DURATION:PT1H
X-Robots-Tag:noindex
X-PUBLISHED-TTL:PT1H
BEGIN:VTIMEZONE
TZID:Europe/Berlin
BEGIN:DAYLIGHT
TZOFFSETFROM:+0100
TZOFFSETTO:+0200
TZNAME:CEST
DTSTART:20240331T010000
END:DAYLIGHT
BEGIN:STANDARD
TZOFFSETFROM:+0200
TZOFFSETTO:+0100
TZNAME:CET
DTSTART:20241027T010000
END:STANDARD
BEGIN:DAYLIGHT
TZOFFSETFROM:+0100
TZOFFSETTO:+0200
TZNAME:CEST
DTSTART:20250330T010000
END:DAYLIGHT
BEGIN:STANDARD
TZOFFSETFROM:+0200
TZOFFSETTO:+0100
TZNAME:CET
DTSTART:20251026T010000
END:STANDARD
BEGIN:DAYLIGHT
TZOFFSETFROM:+0100
TZOFFSETTO:+0200
TZNAME:CEST
DTSTART:20260329T010000
END:DAYLIGHT
BEGIN:STANDARD
TZOFFSETFROM:+0200
TZOFFSETTO:+0100
TZNAME:CET
DTSTART:20261025T010000
END:STANDARD
END:VTIMEZONE
BEGIN:VEVENT
DTSTART;TZID=Europe/Berlin:20250531T100000
DTEND;TZID=Europe/Berlin:20250531T150000
DTSTAMP:20260422T063737
CREATED:20250303T195028Z
LAST-MODIFIED:20250303T195028Z
UID:1901-1748685600-1748703600@www.berg-und-wanderfreunde-untermeitingen.de
SUMMARY:1. Radtour - Kaufering
DESCRIPTION:Mit dem Rad nach Kaufering und geplanter Einkehr im Biergarten. \nEs können gerne auch E-Bikes mitfahren\, aber die Geschwindigkeit richtet sich nach den normalen Fahrrädern. \n  \nTreffpunkt: 10 Uhr an der Imhofhalle Untermeitingen
URL:https://www.berg-und-wanderfreunde-untermeitingen.de/veranstaltung/1-radtour-kaufering/
LOCATION:Imhofhalle
CATEGORIES:Radwanderung
END:VEVENT
END:VCALENDAR