BEGIN:VCALENDAR
VERSION:2.0
PRODID:-//Berg- und Wanderfreunde Untermeitingen - ECPv6.15.18//NONSGML v1.0//EN
CALSCALE:GREGORIAN
METHOD:PUBLISH
X-WR-CALNAME:Berg- und Wanderfreunde Untermeitingen
X-ORIGINAL-URL:https://www.berg-und-wanderfreunde-untermeitingen.de
X-WR-CALDESC:Veranstaltungen für Berg- und Wanderfreunde Untermeitingen
REFRESH-INTERVAL;VALUE=DURATION:PT1H
X-Robots-Tag:noindex
X-PUBLISHED-TTL:PT1H
BEGIN:VTIMEZONE
TZID:Europe/Berlin
BEGIN:DAYLIGHT
TZOFFSETFROM:+0100
TZOFFSETTO:+0200
TZNAME:CEST
DTSTART:20240331T010000
END:DAYLIGHT
BEGIN:STANDARD
TZOFFSETFROM:+0200
TZOFFSETTO:+0100
TZNAME:CET
DTSTART:20241027T010000
END:STANDARD
BEGIN:DAYLIGHT
TZOFFSETFROM:+0100
TZOFFSETTO:+0200
TZNAME:CEST
DTSTART:20250330T010000
END:DAYLIGHT
BEGIN:STANDARD
TZOFFSETFROM:+0200
TZOFFSETTO:+0100
TZNAME:CET
DTSTART:20251026T010000
END:STANDARD
BEGIN:DAYLIGHT
TZOFFSETFROM:+0100
TZOFFSETTO:+0200
TZNAME:CEST
DTSTART:20260329T010000
END:DAYLIGHT
BEGIN:STANDARD
TZOFFSETFROM:+0200
TZOFFSETTO:+0100
TZNAME:CET
DTSTART:20261025T010000
END:STANDARD
END:VTIMEZONE
BEGIN:VEVENT
DTSTART;TZID=Europe/Berlin:20250622T074500
DTEND;TZID=Europe/Berlin:20250622T170000
DTSTAMP:20260422T090006
CREATED:20250303T200813Z
LAST-MODIFIED:20250503T144132Z
UID:1905-1750578300-1750611600@www.berg-und-wanderfreunde-untermeitingen.de
SUMMARY:2. Familienwanderung - Alpe Beichelstein und "Drei-Schlösser-Blick"
DESCRIPTION:Treffpunkt: 7.45 Uhr am Bahnhof SMÜ \nAbfahrt: 8:07 Uhr mit der DB (Allgäu Regio Ticket circa 14 Euro p.P.)
URL:https://www.berg-und-wanderfreunde-untermeitingen.de/veranstaltung/2-familienwanderung-alpe-beichelstein-und-drei-schloesser-blick/
CATEGORIES:Tageswanderung
END:VEVENT
END:VCALENDAR